BEGIN:VCALENDAR
PRODID:NingEventWidget-v1
VERSION:2.0
METHOD:PUBLISH
BEGIN:VEVENT
UID:3481697:Event:1902328
DTSTAMP:20260421T135206Z
SUMMARY:CURSO OPERACIONES DE RESCATE Y TRASLADO DE LESIONADOS EN AREAS
  ESCARPADAS
DESCRIPTION:PARA MAYOR INFORMACION ENVIA E-MAIL AÂ  rescateroraima@gma
 il.com.FUNDACION DE CAPACITACION GRUPO RESCATE RORAIMA FUNDARORAIMATE 
 INVITA AL 4to. CURSO DE RESCATE EN AREAS ESCARPADAS... ... CODIGO: CCF
 GRR03 FECHA : 19 AL 21 Abril 2013... ... ... ... EL CURSO: Tiene una d
 uraciÃ³n de 3 dÃ­as bajo la modalidad de planificaciÃ³n y activaciÃ³n 
 de una operaciÃ³n de bÃºsqueda y rescate en escenarios seleccionados..
 . en la gran Sabana,... estado BolÃ­var donde los participantes deben 
 enfrentarse a topografÃ­a irregular de terrenos, cruzar aguas rÃ¡pidas
  para accesar al lesionados o transportando al lesionado cruzando esta
 s aguas y mediante caminatas en selvaPROPÃ“SITO DEL CURSO: Suministrar
  a los y las participantes las tÃ©cnicas necesarias y desarrollar las 
 destrezas para actuar en incidentes donde se involucren victimas en Ã¡
 reas escarpadas.OBJETIVO DEL CURSO: Los participantes, como parte de u
 n grupo de trabajo o cuadrilla, realizarÃ¡n un ejercicio de bÃºsqueda,
  localizaciÃ³n, estabilizaciÃ³n y extracciÃ³n de una o varias vÃ­ctima
 s en un escenario simulado en un tiempo no mayor a 8 horas, empleando 
 las tÃ©cnicas de descenso de escarpados, ascenso de camillas, flotaciÃ
 ³n y cruce de aguas rÃ¡pidas, traslado durante el escarpado y selva.Ve
 r mÃ¡s..\nÂ \nAPORTE POR PARTICIPANTE INTERNACIONAL.\n600 $ usa.\nQUE 
 INCLUYEN: Alojamiento y comidas Â hotel en ciudad bolivar los diasÂ  1
 7,Â  21 Abril, Traslado al Parque nacional Canaima y de Retorno a Ciud
 ad Bolivar, Alimentacion en el cmpamento durante el curso, Insignia de
 l curso en Tela.Franela Alusiva al Curso.Informacion. rescateroraima@g
 mail.com- 58.0285- 6540031 04163971542. PARA RECIBIR INSTRUCTIVO DEL C
 URSO ESCRIBE AHORA.\nPatcipae de Vnezuela.esribir rescaterorama@gmai.c
 om llmaar 0416371542. 028540031 Pra rcbInstivocon Necesidades, Aporte 
 logistico\nÂ \n\nPara obtener mÃ¡s informaciÃ³n, visita https://herman
 dadebomberos.com/events/urso-rescate-operaciones-de-rescate-y-traslado
 -de-lesionados-en
DTSTART:20130419T030000Z
DTEND:20130422T025900Z
CATEGORIES:curso, operacional
LOCATION:Parque Nacional Canaima Estado Bolivar Venezuela
WEBSITE:
URL:
CONTACT:58-02856540031
ORGANIZER:Jesus Manuel Aguilera- FUNDACIO GRUPO RESCATE RORAIMA
ATTACH;FMTTYPE="image/jpeg":http://storage.ning.com/topology/rest/1.0/
 file/get/2834041425?profile=original
ATTENDEE;ROLE=REQ-PARTICIPANT;PARTSTAT=ACCEPTED;RSVP=TRUE;CN="Jesus Ma
 nuel Aguilera":https://hermandadebomberos.com/profile/JesusManualAguil
 era
END:VEVENT
END:VCALENDAR
