BEGIN:VCALENDAR
PRODID:NingEventWidget-v1
VERSION:2.0
METHOD:PUBLISH
BEGIN:VEVENT
UID:3481697:Event:1948702
DTSTAMP:20260421T135006Z
SUMMARY:1º CURSO DE NAVEGACIÓN PARA BÚSQUEDA Y RESCATE
DESCRIPTION:CRONOGRAMA DE ACTIVDADES: CURSO DE NAVEGACION TERRESTRE PA
 RA BUSQUEDA Y RESCATE\nDÍA HORA CONTENIDO TEMA REQUERIMIENTOS OBSERVA
 CIONES 28/06/13 14:00 ACTO DE INICIO (autoridades UNPA-UART, U.B.XV°,
  U.B.IX°) \n28/06/13 14:15 A 14:25 Presentación del Curso por parte 
 de ponentes Generalidades y objetivos Cañón.\nPuntero laser.\nClases
  en power point. \n28/06/13 14:25 A 15:35 Geografía a) Ubicación geo
 grafía\nb) Características de la Zona de trabajo Cañón.\nPuntero l
 aser.\nClases en power point. \n28/06/13 15:35 A 15:45 Coffe Breack \n
 28/06/13 15:45 A 16:45 Orientación con medios naturales a) Método po
 r el sol\nb) Método por las estrellas\nc) Orientación por los viento
 s.\nd) Orientación por las redes hídricas.\ne) Orientación por la T
 opografía. Cañón.\nPuntero laser.\nClases en power point. \n28/06/1
 3 16:45 A 16:55 Coloquio Operativo Planteos de intervenciones – Inje
 rencia de los temas tratados sobre labor operativa diaria \n28/06/13 1
 6:55 A 17:00 Desconcentración\n29/06/13 09:00 A 09:30 Revisión  Orie
 ntación con carta y brújula Repaso de temas precedentes de cursada \
 nCañón.\nPuntero laser.\nClases en power point.\n29/06/13 09:30 A 10
 :55 Revisión  Orientación con carta y brújula a) Lectura de cartogr
 afía definición y conceptos generales.\nb) Lectura y uso de una cart
 a topográfica.\nc) Uso de la Brújula.\nd) Uso Carta y Brújula. Cañ
 ón.\nPuntero laser.\nClases en power point.\nCartas\nBrújulas\nEscal
 ímetro. \n29/06/13 10:55 A 11:10 Coffe Breack \n29/06/13 11:10 A 12:0
 0 Sistema SIG Introducción y Generalidades Cañón.\nPuntero laser.\n
 Clases en power point.\nComputadora\nPrograma sig.\nProyecto. \n29/06/
 13 11:10 A 12:00 Sistema SIG a) Apoyo del sistema SiG a las operacione
 s de Búsqueda y rescate. Cañón.\nPuntero laser.\nClases en power po
 int.\nComputadora\nPrograma sig.\nProyecto. \n29/06/13\n12:00 A 14:00 
 Almuerzo \n29/06/13 14:00 A 15:45 Uso del GPS a) Posicionamiento.\nb) 
 Pantallas. Cañón.\nPuntero laser.\nClases en power point. \n29/06/13
  15:45 A 16:10 Coffe Breack \n29/06/13 16:10 A 17:00 Ejercitación Eva
 luación Teórico/Práctica Cartas\nBrújulas\nEvaluación final en te
 rreno (aprobatoria)\n29/06/13 17:00 A 17:10 Receso Corrección de eval
 uación  29/06/13 17:10 A 17:20 Entrega de Certificaciones Certificado
 s de aprobación o participación según el caso\n29/06/13 17:20 A 17:
 30 ACTO DE FINALIZACION (autoridades UNPA-UART, U.B.XV°, U.B.IX°)\nB
 ASES Y CONDICIONES - INSCRIPCIONES:\no DEBIDO A LA ESPECIFICIDAD DEL C
 URSO, SOLAMENTE SE DISPONE DE 15 VACANTES (SIN EXCEPCION)\no EFECTUAR 
 LA CONFIRMACION DE LA PARTICIPACION (CON DATOS FILIATORIOS) A LOS TELE
 FONOS 02902-482055/421233 O AL E-MAIL: seguridad.clr@gmail.com\n- ARAN
 CEL: o $ 200 \no EL COSTO DEL ARANCEL DEBERA SER CANCELADO AL MOMENTO 
 DE PRESENTARSE AL CURSADO (ACREDITACIONES)\n- PRESENTACION/MATERIALES:
  o ELEMENTOS DE ESCRITURA (PREFERENTEMENTE HOJAS CUADRICULADAS)\no ROP
 A DE FAJINA\no BOLSA DE DORMIR (PARA EFECTIVOS DEL INTERIOR PROVINCIAL
 )\no GPS LINEA GARMIN (UNICAMENTE)\no BRUJULA ANALOGA\n- CURSADO: o FU
 LL TIME\no EVALUACION FINAL APROBATORIA.\no LA APROBACION IMPLICA LA E
 XTENSION DE CERTIFICADO DE APROBACION Y ES CONDUCENTE AL “2º CURSO 
 DE NTBR”.-\no LA DESAPROBACION IMPLICA EXTENSION DE CERTIFICADO DE P
 ARTICIACION.-\n\nPara obtener más información, visita https://herman
 dadebomberos.com/events/1-curso-de-navegaci-n-para-b-squeda-y-rescate
DTSTART:20130628T030000Z
DTEND:20130630T025900Z
CATEGORIES:capacitacion
LOCATION:RIO TURBIO (SANTA CRUZ - ARGENTINA)
WEBSITE:
URL:
CONTACT:02966-15690833
ORGANIZER:U.B.XIVº
ATTACH;FMTTYPE="image/jpeg":
ATTENDEE;ROLE=REQ-PARTICIPANT;PARTSTAT=ACCEPTED;RSVP=TRUE;CN=CESAR:htt
 ps://hermandadebomberos.com/profile/CESAR453
END:VEVENT
END:VCALENDAR
